BEGIN:VCALENDAR
VERSION:2.0
PRODID:SchoolNow
CALSCALE:GREGORIAN
BEGIN:VEVENT
UID:a9c19b80-6e22-11f0-84d8-0a58a9feac02
DTSTAMP:20260420T205036Z
SUMMARY:No School
URL;VALUE=URI:http://htrstitans.fallhaven.org/high-school/calendar/8461015/
 no-school
DTSTART;VALUE=DATE:20251223
DTEND;VALUE=DATE:20251224
END:VEVENT
END:VCALENDAR
