BEGIN:VCALENDAR
VERSION:2.0
PRODID:SchoolNow
CALSCALE:GREGORIAN
BEGIN:VEVENT
UID:a9c1a094-6e22-11f0-9912-0a58a9feac02
DTSTAMP:20260420T205036Z
SUMMARY:No School
URL;VALUE=URI:http://htrstitans.fallhaven.org/high-school/calendar/8461020/
 no-school
DTSTART;VALUE=DATE:20251230
DTEND;VALUE=DATE:20251231
END:VEVENT
END:VCALENDAR
