BEGIN:VCALENDAR
VERSION:2.0
PRODID:SchoolNow
CALSCALE:GREGORIAN
BEGIN:VEVENT
UID:a9c1a1ac-6e22-11f0-ae5f-0a58a9feac02
DTSTAMP:20260420T205036Z
SUMMARY:No School
URL;VALUE=URI:http://htrstitans.fallhaven.org/high-school/calendar/8461021/
 no-school
DTSTART;VALUE=DATE:20251231
DTEND;VALUE=DATE:20260101
END:VEVENT
END:VCALENDAR
