BEGIN:VCALENDAR
VERSION:2.0
PRODID:SchoolNow
CALSCALE:GREGORIAN
BEGIN:VEVENT
UID:a9c1a580-6e22-11f0-9574-0a58a9feac02
DTSTAMP:20260420T205036Z
SUMMARY:Second Semester - School Resumes
URL;VALUE=URI:http://htrstitans.fallhaven.org/high-school/calendar/8461025/
 second-semester-school-resumes
DTSTART;VALUE=DATE:20260106
DTEND;VALUE=DATE:20260107
END:VEVENT
END:VCALENDAR
