BEGIN:VCALENDAR
VERSION:2.0
PRODID:SchoolNow
CALSCALE:GREGORIAN
BEGIN:VEVENT
UID:a9c1a968-6e22-11f0-abda-0a58a9feac02
DTSTAMP:20260420T205037Z
SUMMARY:No School - Teacher Workday
URL;VALUE=URI:http://htrstitans.fallhaven.org/high-school/calendar/8461027/
 no-school-teacher-workday
DTSTART;VALUE=DATE:20260126
DTEND;VALUE=DATE:20260127
END:VEVENT
END:VCALENDAR
