BEGIN:VCALENDAR
VERSION:2.0
PRODID:SchoolNow
CALSCALE:GREGORIAN
BEGIN:VEVENT
UID:2bb57358-89d2-11f0-b54a-0affc531d027
DTSTAMP:20260420T205037Z
SUMMARY:Potato Bar
LOCATION:HTRS - Commons Area
URL;VALUE=URI:http://htrstitans.fallhaven.org/high-school/calendar/8581252/
 potato-bar
DTSTART:20260127T230000Z
DTEND:20260128T020000Z
END:VEVENT
END:VCALENDAR
