BEGIN:VCALENDAR
VERSION:2.0
PRODID:SchoolNow
CALSCALE:GREGORIAN
BEGIN:VEVENT
UID:7187d94a-abae-11f0-86dc-0eb1e94bc46f
DTSTAMP:20260420T205036Z
SUMMARY:Basketball:  Girls Varsity MUDECAS vs TBA  vs.  TBA (Away)
LOCATION:TBA
URL;VALUE=URI:http://htrstitans.fallhaven.org/high-school/calendar/8730479/
 basketball-girls-varsity-mudecas-vs-tba-vs-tba-away
DTSTART;VALUE=DATE:20260112
DTEND;VALUE=DATE:20260113
END:VEVENT
END:VCALENDAR
