BEGIN:VCALENDAR
VERSION:2.0
PRODID:SchoolNow
CALSCALE:GREGORIAN
BEGIN:VEVENT
UID:7187de18-abae-11f0-bf55-0eb1e94bc46f
DTSTAMP:20260420T205036Z
SUMMARY:Basketball:  Boys Varsity MUDECAS vs TBA  vs.  TBA (Away)
LOCATION:TBA
URL;VALUE=URI:http://htrstitans.fallhaven.org/high-school/calendar/8730480/
 basketball-boys-varsity-mudecas-vs-tba-vs-tba-away
DTSTART;VALUE=DATE:20260113
DTEND;VALUE=DATE:20260114
END:VEVENT
END:VCALENDAR
