BEGIN:VCALENDAR
VERSION:2.0
PRODID:SchoolNow
CALSCALE:GREGORIAN
BEGIN:VEVENT
UID:71984b0e-abae-11f0-b466-0eb1e94bc46f
DTSTAMP:20260420T205037Z
SUMMARY:Basketball:  Girls Varsity MUDECAS vs TBA  vs.  TBA (Away)
LOCATION:TBA
URL;VALUE=URI:http://htrstitans.fallhaven.org/high-school/calendar/8730482/
 basketball-girls-varsity-mudecas-vs-tba-vs-tba-away
DTSTART;VALUE=DATE:20260115
DTEND;VALUE=DATE:20260116
END:VEVENT
END:VCALENDAR
