BEGIN:VCALENDAR
VERSION:2.0
PRODID:SchoolNow
CALSCALE:GREGORIAN
BEGIN:VEVENT
UID:71984e06-abae-11f0-bd69-0eb1e94bc46f
DTSTAMP:20260420T205037Z
SUMMARY:Basketball:  Boys Varsity MUDECAS vs TBA  vs.  TBA (Away)
LOCATION:TBA
URL;VALUE=URI:http://htrstitans.fallhaven.org/high-school/calendar/8730484/
 basketball-boys-varsity-mudecas-vs-tba-vs-tba-away
DTSTART;VALUE=DATE:20260117
DTEND;VALUE=DATE:20260118
END:VEVENT
END:VCALENDAR
