BEGIN:VCALENDAR
VERSION:2.0
PRODID:SchoolNow
CALSCALE:GREGORIAN
BEGIN:VEVENT
UID:658fc4c6-adf8-11f0-a562-026380901c47
DTSTAMP:20260420T205037Z
SUMMARY:Basketball:  Girls Varsity Sub-Districts vs TBA  vs.  TBA (Away)
LOCATION:TBA
URL;VALUE=URI:http://htrstitans.fallhaven.org/high-school/calendar/8736375/
 basketball-girls-varsity-sub-districts-vs-tba-vs-tba-away
DTSTART;VALUE=DATE:20260219
DTEND;VALUE=DATE:20260220
END:VEVENT
END:VCALENDAR
