BEGIN:VCALENDAR
VERSION:2.0
PRODID:SchoolNow
CALSCALE:GREGORIAN
BEGIN:VEVENT
UID:658fc8c2-adf8-11f0-9eaf-026380901c47
DTSTAMP:20260420T205037Z
SUMMARY:Basketball:  Girls Varsity District Finals vs TBA  vs.  TBA (Away)
LOCATION:TBA
URL;VALUE=URI:http://htrstitans.fallhaven.org/high-school/calendar/8736378/
 basketball-girls-varsity-district-finals-vs-tba-vs-tba-away
DTSTART;VALUE=DATE:20260227
DTEND;VALUE=DATE:20260228
END:VEVENT
END:VCALENDAR
