BEGIN:VCALENDAR
VERSION:2.0
PRODID:SchoolNow
CALSCALE:GREGORIAN
BEGIN:VEVENT
UID:658fc9e4-adf8-11f0-b06c-026380901c47
DTSTAMP:20260420T205037Z
SUMMARY:Basketball:  Boys Varsity District Finals vs TBA  vs.  TBA (Away)
LOCATION:TBA
URL;VALUE=URI:http://htrstitans.fallhaven.org/high-school/calendar/8736379/
 basketball-boys-varsity-district-finals-vs-tba-vs-tba-away
DTSTART;VALUE=DATE:20260228
DTEND;VALUE=DATE:20260301
END:VEVENT
END:VCALENDAR
