BEGIN:VCALENDAR
VERSION:2.0
PRODID:SchoolNow
CALSCALE:GREGORIAN
BEGIN:VEVENT
UID:d3e0a2d0-aec3-11f0-9214-0ec1f0240fc7
DTSTAMP:20260420T205037Z
SUMMARY:Wrestling:  Girls Var District Meet vs Weeping Water (Away)
LOCATION:Weeping Water High School
URL;VALUE=URI:http://htrstitans.fallhaven.org/high-school/calendar/8740041/
 wrestling-girls-var-district-meet-vs-weeping-water-away
DTSTART;VALUE=DATE:20260207
DTEND;VALUE=DATE:20260208
END:VEVENT
END:VCALENDAR
