BEGIN:VCALENDAR
VERSION:2.0
PRODID:SchoolNow
CALSCALE:GREGORIAN
BEGIN:VEVENT
UID:d3e0a76c-aec3-11f0-a6a1-0ec1f0240fc7
DTSTAMP:20260420T205037Z
SUMMARY:Wrestling:  Girls Var State Meet vs TBA  vs.  TBA (Away)
LOCATION:Omaha (CHI Center)
URL;VALUE=URI:http://htrstitans.fallhaven.org/high-school/calendar/8740043/
 wrestling-girls-var-state-meet-vs-tba-vs-tba-away
DTSTART;VALUE=DATE:20260218
DTEND;VALUE=DATE:20260219
END:VEVENT
END:VCALENDAR
