BEGIN:VCALENDAR
VERSION:2.0
PRODID:SchoolNow
CALSCALE:GREGORIAN
BEGIN:VEVENT
UID:d3f54e56-aec3-11f0-bc64-0ec1f0240fc7
DTSTAMP:20260420T205038Z
SUMMARY:Track:  Var District Meet vs TBA (Away)
LOCATION:TBA
URL;VALUE=URI:http://htrstitans.fallhaven.org/high-school/calendar/8740047/
 track-var-district-meet-vs-tba-away
DTSTART;VALUE=DATE:20260513
DTEND;VALUE=DATE:20260514
END:VEVENT
END:VCALENDAR
