BEGIN:VCALENDAR
VERSION:2.0
PRODID:SchoolNow
CALSCALE:GREGORIAN
BEGIN:VEVENT
UID:d4033688-aec3-11f0-ae89-0ec1f0240fc7
DTSTAMP:20260420T205038Z
SUMMARY:Track:  Var State Meet vs TBA (Away)
LOCATION:Omaha Burke High School
URL;VALUE=URI:http://htrstitans.fallhaven.org/high-school/calendar/8740048/
 track-var-state-meet-vs-tba-away
DTSTART;VALUE=DATE:20260522
DTEND;VALUE=DATE:20260523
END:VEVENT
END:VCALENDAR
