BEGIN:VCALENDAR
VERSION:2.0
PRODID:SchoolNow
CALSCALE:GREGORIAN
BEGIN:VEVENT
UID:943d8776-b457-11f0-8e16-0afffcf054ab
DTSTAMP:20260420T205036Z
SUMMARY:5th & 6th Grade Girls Basketball
LOCATION:HTRS - Main Gym
URL;VALUE=URI:http://htrstitans.fallhaven.org/high-school/calendar/8757922/
 5th-6th-grade-girls-basketball
DTSTART:20260109T000000Z
DTEND:20260109T011500Z
END:VEVENT
END:VCALENDAR
