BEGIN:VCALENDAR
VERSION:2.0
PRODID:SchoolNow
CALSCALE:GREGORIAN
BEGIN:VEVENT
UID:944eb190-b457-11f0-ba01-0afffcf054ab
DTSTAMP:20260420T205036Z
SUMMARY:5th & 6th Grade Girls Basketball
LOCATION:HTRS - Main Gym
URL;VALUE=URI:http://htrstitans.fallhaven.org/high-school/calendar/8757923/
 5th-6th-grade-girls-basketball
DTSTART:20260113T230000Z
DTEND:20260114T003000Z
END:VEVENT
END:VCALENDAR
