BEGIN:VCALENDAR
VERSION:2.0
PRODID:SchoolNow
CALSCALE:GREGORIAN
BEGIN:VEVENT
UID:944ebf82-b457-11f0-b3f4-0afffcf054ab
DTSTAMP:20260420T205037Z
SUMMARY:5th & 6th Grade Girls Basketball
LOCATION:HTRS - Main Gym
URL;VALUE=URI:http://htrstitans.fallhaven.org/high-school/calendar/8757926/
 5th-6th-grade-girls-basketball
DTSTART:20260220T230000Z
DTEND:20260221T003000Z
END:VEVENT
END:VCALENDAR
