BEGIN:VCALENDAR
VERSION:2.0
PRODID:SchoolNow
CALSCALE:GREGORIAN
BEGIN:VEVENT
UID:74438762-b688-11f0-898b-0e3ea80539eb
DTSTAMP:20260420T205036Z
SUMMARY:Grades Due
URL;VALUE=URI:http://htrstitans.fallhaven.org/high-school/calendar/8765364/
 grades-due
DTSTART;VALUE=DATE:20260106
DTEND;VALUE=DATE:20260107
END:VEVENT
END:VCALENDAR
