BEGIN:VCALENDAR
VERSION:2.0
PRODID:SchoolNow
CALSCALE:GREGORIAN
BEGIN:VEVENT
UID:744393a6-b688-11f0-9726-0e3ea80539eb
DTSTAMP:20260420T205036Z
SUMMARY:Teacher Work Day
URL;VALUE=URI:http://htrstitans.fallhaven.org/high-school/calendar/8765365/
 teacher-work-day
DTSTART;VALUE=DATE:20260105
DTEND;VALUE=DATE:20260106
END:VEVENT
END:VCALENDAR
