BEGIN:VCALENDAR
VERSION:2.0
PRODID:SchoolNow
CALSCALE:GREGORIAN
BEGIN:VEVENT
UID:6b78c894-b6bb-11f0-83d4-0eb670731027
DTSTAMP:20260420T205037Z
SUMMARY:No School-teacher inservice
URL;VALUE=URI:http://htrstitans.fallhaven.org/high-school/calendar/8765936/
 no-school-teacher-inservice
DTSTART;VALUE=DATE:20260202
DTEND;VALUE=DATE:20260203
END:VEVENT
END:VCALENDAR
