BEGIN:VCALENDAR
VERSION:2.0
PRODID:SchoolNow
CALSCALE:GREGORIAN
BEGIN:VEVENT
UID:6770277e-b9b8-11f0-9937-0a58a9feac02
DTSTAMP:20260420T205036Z
SUMMARY:Moratorium
LOCATION:HTRS High School
URL;VALUE=URI:http://htrstitans.fallhaven.org/high-school/calendar/8776972/
 moratorium
DTSTART;VALUE=DATE:20251225
DTEND;VALUE=DATE:20251226
END:VEVENT
END:VCALENDAR
