BEGIN:VCALENDAR
VERSION:2.0
PRODID:SchoolNow
CALSCALE:GREGORIAN
BEGIN:VEVENT
UID:6770288c-b9b8-11f0-bb97-0a58a9feac02
DTSTAMP:20260420T205036Z
SUMMARY:Moratorium
LOCATION:HTRS High School
URL;VALUE=URI:http://htrstitans.fallhaven.org/high-school/calendar/8776973/
 moratorium
DTSTART;VALUE=DATE:20251226
DTEND;VALUE=DATE:20251227
END:VEVENT
END:VCALENDAR
