BEGIN:VCALENDAR
VERSION:2.0
PRODID:SchoolNow
CALSCALE:GREGORIAN
BEGIN:VEVENT
UID:67702b7a-b9b8-11f0-a1aa-0a58a9feac02
DTSTAMP:20260420T205036Z
SUMMARY:Moratorium
LOCATION:HTRS High School
URL;VALUE=URI:http://htrstitans.fallhaven.org/high-school/calendar/8776975/
 moratorium
DTSTART;VALUE=DATE:20251228
DTEND;VALUE=DATE:20251229
END:VEVENT
END:VCALENDAR
