BEGIN:VCALENDAR
VERSION:2.0
PRODID:SchoolNow
CALSCALE:GREGORIAN
BEGIN:VEVENT
UID:6789dad4-b9b8-11f0-bc6b-0a58a9feac02
DTSTAMP:20260420T205036Z
SUMMARY:3/4 Girls' Basketball Practice
LOCATION:Multiple Locations
URL;VALUE=URI:http://htrstitans.fallhaven.org/high-school/calendar/8776976/
 3-4-girls-basketball-practice
DTSTART;VALUE=DATE:20260108
DTEND;VALUE=DATE:20260109
END:VEVENT
END:VCALENDAR
