BEGIN:VCALENDAR
VERSION:2.0
PRODID:SchoolNow
CALSCALE:GREGORIAN
BEGIN:VEVENT
UID:6789df66-b9b8-11f0-8d6d-0a58a9feac02
DTSTAMP:20260420T205036Z
SUMMARY:3/4 Girls' Basketball Practice
LOCATION:Multiple Locations
URL;VALUE=URI:http://htrstitans.fallhaven.org/high-school/calendar/8776977/
 3-4-girls-basketball-practice
DTSTART;VALUE=DATE:20260113
DTEND;VALUE=DATE:20260114
END:VEVENT
END:VCALENDAR
