BEGIN:VCALENDAR
VERSION:2.0
PRODID:SchoolNow
CALSCALE:GREGORIAN
BEGIN:VEVENT
UID:6789e0ec-b9b8-11f0-8e58-0a58a9feac02
DTSTAMP:20260420T205037Z
SUMMARY:3/4 Girls' Basketball Practice
LOCATION:Multiple Locations
URL;VALUE=URI:http://htrstitans.fallhaven.org/high-school/calendar/8776978/
 3-4-girls-basketball-practice
DTSTART;VALUE=DATE:20260115
DTEND;VALUE=DATE:20260116
END:VEVENT
END:VCALENDAR
