BEGIN:VCALENDAR
VERSION:2.0
PRODID:SchoolNow
CALSCALE:GREGORIAN
BEGIN:VEVENT
UID:e3caf746-c4ac-11f0-af4f-0e6403b6e523
DTSTAMP:20260420T205036Z
SUMMARY:Youth Wrestling
LOCATION:Wrestling Room
URL;VALUE=URI:http://htrstitans.fallhaven.org/high-school/calendar/8802019/
 youth-wrestling
DTSTART:20251231T000000Z
DTEND:20251231T011500Z
END:VEVENT
END:VCALENDAR
