BEGIN:VCALENDAR
VERSION:2.0
PRODID:SchoolNow
CALSCALE:GREGORIAN
BEGIN:VEVENT
UID:e3cafe12-c4ac-11f0-866b-0e6403b6e523
DTSTAMP:20260420T205036Z
SUMMARY:Youth Wrestling
LOCATION:Wrestling Room
URL;VALUE=URI:http://htrstitans.fallhaven.org/high-school/calendar/8802022/
 youth-wrestling
DTSTART:20260114T000000Z
DTEND:20260114T011500Z
END:VEVENT
END:VCALENDAR
