BEGIN:VCALENDAR
VERSION:2.0
PRODID:SchoolNow
CALSCALE:GREGORIAN
BEGIN:VEVENT
UID:e3cb0132-c4ac-11f0-9260-0e6403b6e523
DTSTAMP:20260420T205037Z
SUMMARY:Youth Wrestling
LOCATION:Wrestling Room
URL;VALUE=URI:http://htrstitans.fallhaven.org/high-school/calendar/8802024/
 youth-wrestling
DTSTART:20260121T000000Z
DTEND:20260121T011500Z
END:VEVENT
END:VCALENDAR
