BEGIN:VCALENDAR
VERSION:2.0
PRODID:SchoolNow
CALSCALE:GREGORIAN
BEGIN:VEVENT
UID:e3cb0600-c4ac-11f0-b160-0e6403b6e523
DTSTAMP:20260420T205037Z
SUMMARY:Youth Wrestling
LOCATION:Wrestling Room
URL;VALUE=URI:http://htrstitans.fallhaven.org/high-school/calendar/8802027/
 youth-wrestling
DTSTART:20260130T000000Z
DTEND:20260130T011500Z
END:VEVENT
END:VCALENDAR
