BEGIN:VCALENDAR
VERSION:2.0
PRODID:SchoolNow
CALSCALE:GREGORIAN
BEGIN:VEVENT
UID:e3df5cea-c4ac-11f0-b09d-0e6403b6e523
DTSTAMP:20260420T205037Z
SUMMARY:Youth Wrestling
LOCATION:Wrestling Room
URL;VALUE=URI:http://htrstitans.fallhaven.org/high-school/calendar/8802033/
 youth-wrestling
DTSTART:20260220T000000Z
DTEND:20260220T011500Z
END:VEVENT
END:VCALENDAR
