BEGIN:VCALENDAR
VERSION:2.0
PRODID:SchoolNow
CALSCALE:GREGORIAN
BEGIN:VEVENT
UID:e3df65c8-c4ac-11f0-b0d7-0e6403b6e523
DTSTAMP:20260420T205037Z
SUMMARY:Youth Wrestling
LOCATION:Wrestling Room
URL;VALUE=URI:http://htrstitans.fallhaven.org/high-school/calendar/8802040/
 youth-wrestling
DTSTART:20260316T230000Z
DTEND:20260317T001500Z
END:VEVENT
END:VCALENDAR
