BEGIN:VCALENDAR
VERSION:2.0
PRODID:SchoolNow
CALSCALE:GREGORIAN
BEGIN:VEVENT
UID:e3df6730-c4ac-11f0-aa32-0e6403b6e523
DTSTAMP:20260420T205037Z
SUMMARY:Youth Wrestling
LOCATION:Wrestling Room
URL;VALUE=URI:http://htrstitans.fallhaven.org/high-school/calendar/8802041/
 youth-wrestling
DTSTART:20260319T230000Z
DTEND:20260320T001500Z
END:VEVENT
END:VCALENDAR
