BEGIN:VCALENDAR
VERSION:2.0
PRODID:SchoolNow
CALSCALE:GREGORIAN
BEGIN:VEVENT
UID:5776acfc-d205-11f0-988b-0a58a9feac02
DTSTAMP:20260420T205036Z
SUMMARY:Speech
LOCATION:HTRS High School
URL;VALUE=URI:http://htrstitans.fallhaven.org/high-school/calendar/8818425/
 speech
DTSTART;VALUE=DATE:20251222
DTEND;VALUE=DATE:20251223
END:VEVENT
END:VCALENDAR
