BEGIN:VCALENDAR
VERSION:2.0
PRODID:SchoolNow
CALSCALE:GREGORIAN
BEGIN:VEVENT
UID:2b450010-d238-11f0-8194-0a58a9feac02
DTSTAMP:20260420T205037Z
SUMMARY:2nd grade field trip
LOCATION:Omaha
URL;VALUE=URI:http://htrstitans.fallhaven.org/high-school/calendar/8818856/
 2nd-grade-field-trip
DTSTART:20260402T130000Z
DTEND:20260402T200000Z
END:VEVENT
END:VCALENDAR
