BEGIN:VCALENDAR
VERSION:2.0
PRODID:SchoolNow
CALSCALE:GREGORIAN
BEGIN:VEVENT
UID:0e4d9b8e-d535-11f0-b347-0a58a9feac02
DTSTAMP:20260420T205037Z
SUMMARY:Speech Meet
LOCATION:Wisner
URL;VALUE=URI:http://htrstitans.fallhaven.org/high-school/calendar/8820702/
 speech-meet
DTSTART;VALUE=DATE:20260117
DTEND;VALUE=DATE:20260118
END:VEVENT
END:VCALENDAR
