BEGIN:VCALENDAR
VERSION:2.0
PRODID:SchoolNow
CALSCALE:GREGORIAN
BEGIN:VEVENT
UID:0e68ddae-d535-11f0-b44d-0a58a9feac02
DTSTAMP:20260420T205037Z
SUMMARY:Pioneer Conference Speech
LOCATION:Pawnee
URL;VALUE=URI:http://htrstitans.fallhaven.org/high-school/calendar/8820709/
 pioneer-conference-speech
DTSTART;VALUE=DATE:20260221
DTEND;VALUE=DATE:20260222
END:VEVENT
END:VCALENDAR
