BEGIN:VCALENDAR
VERSION:2.0
PRODID:SchoolNow
CALSCALE:GREGORIAN
BEGIN:VEVENT
UID:0e68e16e-d535-11f0-97b7-0a58a9feac02
DTSTAMP:20260420T205037Z
SUMMARY:Speech Meet
LOCATION:Plattsmouth
URL;VALUE=URI:http://htrstitans.fallhaven.org/high-school/calendar/8820711/
 speech-meet
DTSTART;VALUE=DATE:20260228
DTEND;VALUE=DATE:20260301
END:VEVENT
END:VCALENDAR
