BEGIN:VCALENDAR
VERSION:2.0
PRODID:SchoolNow
CALSCALE:GREGORIAN
BEGIN:VEVENT
UID:0e68e326-d535-11f0-9c0f-0a58a9feac02
DTSTAMP:20260420T205037Z
SUMMARY:Speech Meet
LOCATION:Fairbury
URL;VALUE=URI:http://htrstitans.fallhaven.org/high-school/calendar/8820712/
 speech-meet
DTSTART;VALUE=DATE:20260307
DTEND;VALUE=DATE:20260308
END:VEVENT
END:VCALENDAR
