BEGIN:VCALENDAR
VERSION:2.0
PRODID:SchoolNow
CALSCALE:GREGORIAN
BEGIN:VEVENT
UID:0e68e48e-d535-11f0-b6a6-0a58a9feac02
DTSTAMP:20260420T205037Z
SUMMARY:Speech Meet
LOCATION:Thayer Central @ Hebron
URL;VALUE=URI:http://htrstitans.fallhaven.org/high-school/calendar/8820713/
 speech-meet
DTSTART;VALUE=DATE:20260313
DTEND;VALUE=DATE:20260314
END:VEVENT
END:VCALENDAR
