BEGIN:VCALENDAR
VERSION:2.0
PRODID:SchoolNow
CALSCALE:GREGORIAN
BEGIN:VEVENT
UID:0e68e592-d535-11f0-a68c-0a58a9feac02
DTSTAMP:20260420T205037Z
SUMMARY:District Speech
LOCATION:Raymond Central
URL;VALUE=URI:http://htrstitans.fallhaven.org/high-school/calendar/8820714/
 district-speech
DTSTART;VALUE=DATE:20260316
DTEND;VALUE=DATE:20260317
END:VEVENT
END:VCALENDAR
