BEGIN:VCALENDAR
VERSION:2.0
PRODID:SchoolNow
CALSCALE:GREGORIAN
BEGIN:VEVENT
UID:0e68e93e-d535-11f0-922d-0a58a9feac02
DTSTAMP:20260420T205037Z
SUMMARY:State Speech
LOCATION:Kearney
URL;VALUE=URI:http://htrstitans.fallhaven.org/high-school/calendar/8820715/
 state-speech
DTSTART;VALUE=DATE:20260328
DTEND;VALUE=DATE:20260329
END:VEVENT
END:VCALENDAR
