BEGIN:VCALENDAR
VERSION:2.0
PRODID:SchoolNow
CALSCALE:GREGORIAN
BEGIN:VEVENT
UID:fa1e3566-d600-11f0-beb4-0a58a9feac02
DTSTAMP:20260420T205036Z
SUMMARY:Study Hall-7th Period
URL;VALUE=URI:http://htrstitans.fallhaven.org/high-school/calendar/8821338/
 study-hall-7th-period
DTSTART;VALUE=DATE:20260107
DTEND;VALUE=DATE:20260108
END:VEVENT
END:VCALENDAR
