BEGIN:VCALENDAR
VERSION:2.0
PRODID:SchoolNow
CALSCALE:GREGORIAN
BEGIN:VEVENT
UID:fa2f8898-d600-11f0-b19d-0a58a9feac02
DTSTAMP:20260420T205036Z
SUMMARY:Study Hall-5th Period
URL;VALUE=URI:http://htrstitans.fallhaven.org/high-school/calendar/8821340/
 study-hall-5th-period
DTSTART;VALUE=DATE:20260109
DTEND;VALUE=DATE:20260110
END:VEVENT
END:VCALENDAR
