BEGIN:VCALENDAR
VERSION:2.0
PRODID:SchoolNow
CALSCALE:GREGORIAN
BEGIN:VEVENT
UID:fa2f8aa0-d600-11f0-a7e2-0a58a9feac02
DTSTAMP:20260420T205036Z
SUMMARY:Study Hall-4th Period
URL;VALUE=URI:http://htrstitans.fallhaven.org/high-school/calendar/8821341/
 study-hall-4th-period
DTSTART;VALUE=DATE:20260112
DTEND;VALUE=DATE:20260113
END:VEVENT
END:VCALENDAR
