BEGIN:VCALENDAR
VERSION:2.0
PRODID:SchoolNow
CALSCALE:GREGORIAN
BEGIN:VEVENT
UID:fa2f8c62-d600-11f0-b0cb-0a58a9feac02
DTSTAMP:20260420T205036Z
SUMMARY:Study Hall-3rd Period
URL;VALUE=URI:http://htrstitans.fallhaven.org/high-school/calendar/8821342/
 study-hall-3rd-period
DTSTART;VALUE=DATE:20260113
DTEND;VALUE=DATE:20260114
END:VEVENT
END:VCALENDAR
