BEGIN:VCALENDAR
VERSION:2.0
PRODID:SchoolNow
CALSCALE:GREGORIAN
BEGIN:VEVENT
UID:fa2f91d0-d600-11f0-b951-0a58a9feac02
DTSTAMP:20260420T205037Z
SUMMARY:Study Hall-7th Period
URL;VALUE=URI:http://htrstitans.fallhaven.org/high-school/calendar/8821346/
 study-hall-7th-period
DTSTART;VALUE=DATE:20260120
DTEND;VALUE=DATE:20260121
END:VEVENT
END:VCALENDAR
